BEGIN:VCALENDAR
VERSION:2.0
PRODID:-//Hand To Paw - ECPv6.15.20//NONSGML v1.0//EN
CALSCALE:GREGORIAN
METHOD:PUBLISH
X-WR-CALNAME:Hand To Paw
X-ORIGINAL-URL:https://handtopaw.us
X-WR-CALDESC:Events for Hand To Paw
REFRESH-INTERVAL;VALUE=DURATION:PT1H
X-Robots-Tag:noindex
X-PUBLISHED-TTL:PT1H
BEGIN:VTIMEZONE
TZID:America/New_York
BEGIN:DAYLIGHT
TZOFFSETFROM:-0500
TZOFFSETTO:-0400
TZNAME:EDT
DTSTART:20180311T070000
END:DAYLIGHT
BEGIN:STANDARD
TZOFFSETFROM:-0400
TZOFFSETTO:-0500
TZNAME:EST
DTSTART:20181104T060000
END:STANDARD
BEGIN:DAYLIGHT
TZOFFSETFROM:-0500
TZOFFSETTO:-0400
TZNAME:EDT
DTSTART:20190310T070000
END:DAYLIGHT
BEGIN:STANDARD
TZOFFSETFROM:-0400
TZOFFSETTO:-0500
TZNAME:EST
DTSTART:20191103T060000
END:STANDARD
BEGIN:DAYLIGHT
TZOFFSETFROM:-0500
TZOFFSETTO:-0400
TZNAME:EDT
DTSTART:20200308T070000
END:DAYLIGHT
BEGIN:STANDARD
TZOFFSETFROM:-0400
TZOFFSETTO:-0500
TZNAME:EST
DTSTART:20201101T060000
END:STANDARD
BEGIN:DAYLIGHT
TZOFFSETFROM:-0500
TZOFFSETTO:-0400
TZNAME:EDT
DTSTART:20210314T070000
END:DAYLIGHT
BEGIN:STANDARD
TZOFFSETFROM:-0400
TZOFFSETTO:-0500
TZNAME:EST
DTSTART:20211107T060000
END:STANDARD
END:VTIMEZONE
BEGIN:VEVENT
DTSTART;TZID=America/New_York:20200329T080000
DTEND;TZID=America/New_York:20200329T170000
DTSTAMP:20260423T161151
CREATED:20200323T212058Z
LAST-MODIFIED:20200323T212058Z
UID:617-1585468800-1585501200@handtopaw.us
SUMMARY:Barks and Brews
DESCRIPTION:Come drink some good times with your furry friend
URL:https://handtopaw.us/event/barks-and-brews/
LOCATION:Quonquont Farms
END:VEVENT
BEGIN:VEVENT
DTSTART;TZID=America/New_York:20190929T080000
DTEND;TZID=America/New_York:20190929T170000
DTSTAMP:20260423T161151
CREATED:20200323T213125Z
LAST-MODIFIED:20200323T213125Z
UID:624-1569744000-1569776400@handtopaw.us
SUMMARY:Mutts & Mimosas
DESCRIPTION:Mmmm Morning drinking with furry buddies
URL:https://handtopaw.us/event/mutts-mimosas/
ATTACH;FMTTYPE=image/bmp:https://handtopaw.us/wp-content/uploads/2020/03/uxlo5cn6.bmp
END:VEVENT
END:VCALENDAR